BEGIN:VCALENDAR
VERSION:2.0
PRODID:-//Old Songs — Music with Roots - ECPv5.16.4//NONSGML v1.0//EN
CALSCALE:GREGORIAN
METHOD:PUBLISH
X-WR-CALNAME:Old Songs — Music with Roots
X-ORIGINAL-URL:https://oldsongs.org
X-WR-CALDESC:Events for Old Songs — Music with Roots
BEGIN:VTIMEZONE
TZID:America/New_York
BEGIN:DAYLIGHT
TZOFFSETFROM:-0500
TZOFFSETTO:-0400
TZNAME:EDT
DTSTART:20240310T070000
END:DAYLIGHT
BEGIN:STANDARD
TZOFFSETFROM:-0400
TZOFFSETTO:-0500
TZNAME:EST
DTSTART:20241103T060000
END:STANDARD
END:VTIMEZONE
BEGIN:VEVENT
DTSTART;TZID=America/New_York:20241002T144500
DTEND;TZID=America/New_York:20241002T160000
DTSTAMP:20260419T152226
CREATED:20170829T154918Z
LAST-MODIFIED:20241009T170143Z
UID:9922-1727880300-1727884800@oldsongs.org
SUMMARY:Beginners & Beyond Mountain Dulcimer
DESCRIPTION:with Susan Trump \nWe’ll explore DAD tuning\, work on strum directions and left hand fingering. We’ll learn some fiddle tunes\, and other repertoire that works well on dulcimer. \nFor more information contact Susan at 518-265-7382 or susantrump@aol.com. \nClass Dates: Wednesdays\, Oct. 2\, 9\, 16\, 23\, 30\, & Nov. 6 \nRegister
URL:https://oldsongs.org/event/beg-mountain-dulcimer-fall24/
LOCATION:Old Songs Community Arts Center\, 37 S Main St\, Voorheesville\, NY\, 12186\, United States
CATEGORIES:Class
GEO:42.6527343;-73.928637
X-APPLE-STRUCTURED-LOCATION;VALUE=URI;X-ADDRESS=Old Songs Community Arts Center 37 S Main St Voorheesville NY 12186 United States;X-APPLE-RADIUS=500;X-TITLE=37 S Main St:geo:-73.928637,42.6527343
END:VEVENT
END:VCALENDAR