BEGIN:VCALENDAR
VERSION:2.0
PRODID:-//Old Songs — Music with Roots - ECPv5.16.4//NONSGML v1.0//EN
CALSCALE:GREGORIAN
METHOD:PUBLISH
X-WR-CALNAME:Old Songs — Music with Roots
X-ORIGINAL-URL:https://oldsongs.org
X-WR-CALDESC:Events for Old Songs — Music with Roots
BEGIN:VTIMEZONE
TZID:America/New_York
BEGIN:DAYLIGHT
TZOFFSETFROM:-0500
TZOFFSETTO:-0400
TZNAME:EDT
DTSTART:20160313T070000
END:DAYLIGHT
BEGIN:STANDARD
TZOFFSETFROM:-0400
TZOFFSETTO:-0500
TZNAME:EST
DTSTART:20161106T060000
END:STANDARD
END:VTIMEZONE
BEGIN:VEVENT
DTSTART;TZID=America/New_York:20161110T180000
DTEND;TZID=America/New_York:20161110T191500
DTSTAMP:20260421T181346
CREATED:20160826T144426Z
LAST-MODIFIED:20170119T035115Z
UID:1428-1478800800-1478805300@oldsongs.org
SUMMARY:Beginner Ukulele
DESCRIPTION:with Ron Gordon \nBegin your uke career! Ron’s class at Old Songs will get you started down the path to heavenly strumming.We will learn chords (of course)\,right hand strumming techniques\, some chord melody\, jazzy\,blues\, etc. voicings and some finger picking… depending on our progress. This will all be learned through some classic songs\,so singing is definitely part of the program. Handouts provided and recorders recommended. BTW\, we’ll also delve into some uke history and ukeology along with my personal favorite… uke collecting! \nFor more information contact Ron at 518-372-4172 or rgukeboy@gmail.com. \nClass Dates: Oct. 6\, 13\, 20\, 27\, Nov. 3\, & 10—Register by Sept.30
URL:https://oldsongs.org/event/beginner-ukulele-2016-11-10/
LOCATION:Old Songs Community Arts Center\, 37 S Main St\, Voorheesville\, NY\, 12186\, United States
CATEGORIES:Class
GEO:42.6527343;-73.928637
X-APPLE-STRUCTURED-LOCATION;VALUE=URI;X-ADDRESS=Old Songs Community Arts Center 37 S Main St Voorheesville NY 12186 United States;X-APPLE-RADIUS=500;X-TITLE=37 S Main St:geo:-73.928637,42.6527343
END:VEVENT
END:VCALENDAR