BEGIN:VCALENDAR
VERSION:2.0
PRODID:-//Old Songs — Music with Roots - ECPv5.16.4//NONSGML v1.0//EN
CALSCALE:GREGORIAN
METHOD:PUBLISH
X-WR-CALNAME:Old Songs — Music with Roots
X-ORIGINAL-URL:https://oldsongs.org
X-WR-CALDESC:Events for Old Songs — Music with Roots
BEGIN:VTIMEZONE
TZID:America/New_York
BEGIN:DAYLIGHT
TZOFFSETFROM:-0500
TZOFFSETTO:-0400
TZNAME:EDT
DTSTART:20260308T070000
END:DAYLIGHT
BEGIN:STANDARD
TZOFFSETFROM:-0400
TZOFFSETTO:-0500
TZNAME:EST
DTSTART:20261101T060000
END:STANDARD
END:VTIMEZONE
BEGIN:VEVENT
DTSTART;TZID=America/New_York:20260503T130000
DTEND;TZID=America/New_York:20260503T170000
DTSTAMP:20260422T184517
CREATED:20260211T045856Z
LAST-MODIFIED:20260211T045856Z
UID:12087-1777813200-1777827600@oldsongs.org
SUMMARY:Bluegrass Jam Class
DESCRIPTION:Taught by Tom Behan using the Wernick Method \n4 sessions\, tuition $230 ($250 after March 29) \nPlaying music with others is the best activity for getting better on your instrument! Using the tried and true Pete Wernick method\, the class will teach the fundamentals of bluegrass jamming and build your confidence in playing with others. The music is slow and easy\, and you will quickly gain skills while having fun. These skills are transferable to other types of music because they are basic to all types of jamming. All skill levels are welcome\, and bringing a recording device is recommended. \nFor more information contact Tom at tbehan@nycap.rr.com \nClass Dates: Sundays\, April 26\, May 3\, 17\, 24 (Skip May 10) \nRegister at wernickmethod.org 
URL:https://oldsongs.org/event/bluegrass-jam-spring26__trashed/2026-05-03/
LOCATION:Old Songs Community Arts Center\, 37 S Main St\, Voorheesville\, NY\, 12186\, United States
CATEGORIES:Class
GEO:42.6527343;-73.928637
X-APPLE-STRUCTURED-LOCATION;VALUE=URI;X-ADDRESS=Old Songs Community Arts Center 37 S Main St Voorheesville NY 12186 United States;X-APPLE-RADIUS=500;X-TITLE=37 S Main St:geo:-73.928637,42.6527343
END:VEVENT
END:VCALENDAR