BEGIN:VCALENDAR
VERSION:2.0
PRODID:-//Old Songs — Music with Roots - ECPv5.16.4//NONSGML v1.0//EN
CALSCALE:GREGORIAN
METHOD:PUBLISH
X-WR-CALNAME:Old Songs — Music with Roots
X-ORIGINAL-URL:https://oldsongs.org
X-WR-CALDESC:Events for Old Songs — Music with Roots
BEGIN:VTIMEZONE
TZID:America/New_York
BEGIN:DAYLIGHT
TZOFFSETFROM:-0500
TZOFFSETTO:-0400
TZNAME:EDT
DTSTART:20250309T070000
END:DAYLIGHT
BEGIN:STANDARD
TZOFFSETFROM:-0400
TZOFFSETTO:-0500
TZNAME:EST
DTSTART:20251102T060000
END:STANDARD
END:VTIMEZONE
BEGIN:VEVENT
DTSTART;TZID=America/New_York:20251122T193000
DTEND;TZID=America/New_York:20251122T213000
DTSTAMP:20260422T124515
CREATED:20150814T183948Z
LAST-MODIFIED:20251122T203628Z
UID:11662-1763839800-1763847000@oldsongs.org
SUMMARY:Grosse Isle — Live at Old Songs
DESCRIPTION:Grosse Isle is a group that “represents the musical best of two great cultures”\, Ireland and Québec (Roots music Canada). They have been involved in the trad scene for more than a decade and have recorded numerous critically acclaimed albums separtely and together. With music and song on an array of instruments including uilleann pipes\, fiddle\, piano\, whistle & banjo\, Grosse Isle bring us on a journey through time and place with their carefully curated selection of traditional tunes and songs\, as well as new repertoire by Sophie Lavoie. The piping of Fiachra O’Regan\, adds the unmistakable Irish flavour to the group. The sound is completed by the rich accompaniment of Francois-Félix Roy. grosse-isle.com \nBuy Tickets: \n\nThe concert will be held in person at the Old Songs building (37 S Main in Voorheesville) and live-streamed on the Old Songs YouTube Channel.
URL:https://oldsongs.org/event/grosse-isle-25/
LOCATION:Old Songs Community Arts Center\, 37 S Main St\, Voorheesville\, NY\, 12186\, United States
CATEGORIES:Concert
ATTACH;FMTTYPE=image/jpeg:https://oldsongs.org/wp-content/uploads/sites/2/2015/08/Macam-4-e1755374030914.jpg
GEO:42.6527343;-73.928637
X-APPLE-STRUCTURED-LOCATION;VALUE=URI;X-ADDRESS=Old Songs Community Arts Center 37 S Main St Voorheesville NY 12186 United States;X-APPLE-RADIUS=500;X-TITLE=37 S Main St:geo:-73.928637,42.6527343
END:VEVENT
END:VCALENDAR