BEGIN:VCALENDAR
VERSION:2.0
PRODID:-//Old Songs — Music with Roots - ECPv5.16.4//NONSGML v1.0//EN
CALSCALE:GREGORIAN
METHOD:PUBLISH
X-WR-CALNAME:Old Songs — Music with Roots
X-ORIGINAL-URL:https://oldsongs.org
X-WR-CALDESC:Events for Old Songs — Music with Roots
BEGIN:VTIMEZONE
TZID:America/New_York
BEGIN:DAYLIGHT
TZOFFSETFROM:-0500
TZOFFSETTO:-0400
TZNAME:EDT
DTSTART:20150308T070000
END:DAYLIGHT
BEGIN:STANDARD
TZOFFSETFROM:-0400
TZOFFSETTO:-0500
TZNAME:EST
DTSTART:20151101T060000
END:STANDARD
END:VTIMEZONE
BEGIN:VEVENT
DTSTART;TZID=America/New_York:20151007T193000
DTEND;TZID=America/New_York:20151007T204500
DTSTAMP:20260421T082859
CREATED:20150805T212443Z
LAST-MODIFIED:20151028T214753Z
UID:193-1444246200-1444250700@oldsongs.org
SUMMARY:Intermediate Ukulele
DESCRIPTION:with Ron Gordon \nThis class will be ideal for those ukers who know some songs\, play basic chords\, and know a few strums. We’ll review beginning uke and than progress to chord melody and finger picking technique. Along the way\, we’ll learn some classics from the past 100 years of great ukulele music. \nFor more information contact Ron at 518-372-4172 or rgukeboy@gmail.com.
URL:https://oldsongs.org/event/intermediate-ukulele/2015-10-07/
LOCATION:Old Songs Community Arts Center\, 37 S Main St\, Voorheesville\, NY\, 12186\, United States
CATEGORIES:Class
GEO:42.6527343;-73.928637
X-APPLE-STRUCTURED-LOCATION;VALUE=URI;X-ADDRESS=Old Songs Community Arts Center 37 S Main St Voorheesville NY 12186 United States;X-APPLE-RADIUS=500;X-TITLE=37 S Main St:geo:-73.928637,42.6527343
END:VEVENT
END:VCALENDAR