BEGIN:VCALENDAR
VERSION:2.0
PRODID:-//Old Songs — Music with Roots - ECPv5.16.4//NONSGML v1.0//EN
CALSCALE:GREGORIAN
METHOD:PUBLISH
X-WR-CALNAME:Old Songs — Music with Roots
X-ORIGINAL-URL:https://oldsongs.org
X-WR-CALDESC:Events for Old Songs — Music with Roots
BEGIN:VTIMEZONE
TZID:America/New_York
BEGIN:DAYLIGHT
TZOFFSETFROM:-0500
TZOFFSETTO:-0400
TZNAME:EDT
DTSTART:20170312T070000
END:DAYLIGHT
BEGIN:STANDARD
TZOFFSETFROM:-0400
TZOFFSETTO:-0500
TZNAME:EST
DTSTART:20171105T060000
END:STANDARD
END:VTIMEZONE
BEGIN:VEVENT
DTSTART;TZID=America/New_York:20171022T150000
DTEND;TZID=America/New_York:20171022T150000
DTSTAMP:20260421T110140
CREATED:20150814T183948Z
LAST-MODIFIED:20171013T154204Z
UID:2621-1508684400-1508684400@oldsongs.org
SUMMARY:Lawler + Fadoul—Clickable: The Art of Persuasion
DESCRIPTION:Clickable: The Art of Persuasion is a timely program that blurs the line between high art and pop culture\, with sing-along elements merging seamlessly with abstract art\, instrumental virtuosity\, live commercial breaks and dance.  A theatrical concert featuring flute and percussion\, it showcases new work from American composers Ralph Farris\, Katherine Hoover and Adam Silverman\, Canadian composer Jason Nett\, hip-hop poet Liza Jessie Peterson and choreographer Barbie Diewald. Directed by Rachel Peake. \nNOTE: This performance is part of a live CD recording. Please come and join us! \nlawlerandfadoul.com \nTickets: $18 Online Only\, $20 at the Door (or by Phone)\n$5 Children age 12 & under \n \nOr call Old Songs to reserve: (518) 765-2815.\nIf online tickets sellout\, they may still be available from Old Songs.\nRefunds are not available for this event.
URL:https://oldsongs.org/event/lawler-fadoul-clickable-the-art-of-persuasion/
LOCATION:Old Songs Community Arts Center\, 37 S Main St\, Voorheesville\, NY\, 12186\, United States
CATEGORIES:Concert
ATTACH;FMTTYPE=image/jpeg:https://oldsongs.org/wp-content/uploads/sites/2/2015/08/lawler-fadoul-horizontal.jpg
GEO:42.6527343;-73.928637
X-APPLE-STRUCTURED-LOCATION;VALUE=URI;X-ADDRESS=Old Songs Community Arts Center 37 S Main St Voorheesville NY 12186 United States;X-APPLE-RADIUS=500;X-TITLE=37 S Main St:geo:-73.928637,42.6527343
END:VEVENT
END:VCALENDAR