BEGIN:VCALENDAR
VERSION:2.0
PRODID:-//Old Songs — Music with Roots - ECPv5.16.4//NONSGML v1.0//EN
CALSCALE:GREGORIAN
METHOD:PUBLISH
X-WR-CALNAME:Old Songs — Music with Roots
X-ORIGINAL-URL:https://oldsongs.org
X-WR-CALDESC:Events for Old Songs — Music with Roots
BEGIN:VTIMEZONE
TZID:America/New_York
BEGIN:DAYLIGHT
TZOFFSETFROM:-0500
TZOFFSETTO:-0400
TZNAME:EDT
DTSTART:20150308T070000
END:DAYLIGHT
BEGIN:STANDARD
TZOFFSETFROM:-0400
TZOFFSETTO:-0500
TZNAME:EST
DTSTART:20151101T060000
END:STANDARD
END:VTIMEZONE
BEGIN:VEVENT
DTSTART;TZID=America/New_York:20150925T200000
DTEND;TZID=America/New_York:20150925T200000
DTSTAMP:20260421T123710
CREATED:20150730T175758Z
LAST-MODIFIED:20150805T192459Z
UID:94-1443211200-1443211200@oldsongs.org
SUMMARY:Sarah McQuaid
DESCRIPTION:Sarah McQuaid’s voice has been likened to malt whiskey\, melted chocolate and “honey poured into wine” (Minor 7th). Her new album Walking Into White (2015) is her most honest and adventurous work to date\, with a depth and texture of soundscape that are reflected in her beautifully crafted live shows. A captivating performer\, she seduces her audience with cheeky banter and stories from the road\, as well as with stunning musicianship; in her hands\, the guitar becomes much more than merely an accompanying instrument. \nsarahmcquaid.com \nTickets: $20\n$5 Children age 12 & under \n \nOr call Old Songs to reserve: (518) 765-2815.\nIf online tickets sellout\, they may still be available from Old Songs.\nRefunds are not available for this event.
URL:https://oldsongs.org/event/sarah-mcquaid/
LOCATION:Old Songs Community Arts Center\, 37 S Main St\, Voorheesville\, NY\, 12186\, United States
CATEGORIES:Concert
ATTACH;FMTTYPE=image/jpeg:https://oldsongs.org/wp-content/uploads/sites/2/2015/07/2015_Sarah_McQuaid_4.jpg
GEO:42.6527343;-73.928637
X-APPLE-STRUCTURED-LOCATION;VALUE=URI;X-ADDRESS=Old Songs Community Arts Center 37 S Main St Voorheesville NY 12186 United States;X-APPLE-RADIUS=500;X-TITLE=37 S Main St:geo:-73.928637,42.6527343
END:VEVENT
END:VCALENDAR