BEGIN:VCALENDAR
VERSION:2.0
PRODID:-//Old Songs — Music with Roots - ECPv5.16.4//NONSGML v1.0//EN
CALSCALE:GREGORIAN
METHOD:PUBLISH
X-WR-CALNAME:Old Songs — Music with Roots
X-ORIGINAL-URL:https://oldsongs.org
X-WR-CALDESC:Events for Old Songs — Music with Roots
BEGIN:VTIMEZONE
TZID:America/New_York
BEGIN:DAYLIGHT
TZOFFSETFROM:-0500
TZOFFSETTO:-0400
TZNAME:EDT
DTSTART:20250309T070000
END:DAYLIGHT
BEGIN:STANDARD
TZOFFSETFROM:-0400
TZOFFSETTO:-0500
TZNAME:EST
DTSTART:20251102T060000
END:STANDARD
END:VTIMEZONE
BEGIN:VEVENT
DTSTART;VALUE=DATE:20250329
DTEND;VALUE=DATE:20250330
DTSTAMP:20260423T080430
CREATED:20151124T201551Z
LAST-MODIFIED:20250206T213937Z
UID:11201-1743206400-1743231600@oldsongs.org
SUMMARY:Hammered Dulcimer Day with Dan Duggan
DESCRIPTION:Beginner Hammered Dulcimer (10 – 11:30 am)\nAward winning Hammered Dulcimer player and teacher Dan Duggan will show students the layout of the instrument and teach some simple chords and tunes. Dan will bring 8 dulcimers for students to play. If you have ever wanted to learn to play the Hammered Dulcimer this is a perfect opportunity. \nIntermediate Hammered Dulcimer (1 – 3 pm)\nDan will work with the class to better know your instrument and teach several tunes and different playing techniques to help make you a more complete player. The class will also touch on some music theory. Don’t miss this opportunity to fine tune your dulcimer playing and style.    \nRegister\n \nThe workshop will be held in person at the Old Songs building (37 S Main in Voorheesville). If you are experiencing any symptoms of COVID\, the flu\, or a cold (cough\, runny nose\, sore throat\, or fever) at the time of the event\, please stay home\, and ask for a refund. \n\nDan Duggan \nDan Duggan\, nationally touring performer and teacher is rapidly being acknowledged as one of the finest dulcimer players and composers in the country. As recipient of the prestigious National Hammered Dulcimer Championship\, Dan’s accomplishment\, though based on technical merit\, is even more considerable as he is the first winner to have performed all original compositions. Dan has released six recordings of original music and several recordings with his wife Peggy Lynn\, Jamcrackers and The Susquehanna String Band. For over 40 years Dan’s performances and workshops have delighted audiences from Maine to California. 
URL:https://oldsongs.org/event/hammered-dulcimer-day/
LOCATION:Old Songs Community Arts Center\, 37 S Main St\, Voorheesville\, NY\, 12186\, United States
CATEGORIES:Workshop
ATTACH;FMTTYPE=image/jpeg:https://oldsongs.org/wp-content/uploads/sites/2/2015/11/Dul-Hammers-16x9-1.jpg
GEO:42.6527343;-73.928637
X-APPLE-STRUCTURED-LOCATION;VALUE=URI;X-ADDRESS=Old Songs Community Arts Center 37 S Main St Voorheesville NY 12186 United States;X-APPLE-RADIUS=500;X-TITLE=37 S Main St:geo:-73.928637,42.6527343
END:VEVENT
BEGIN:VEVENT
DTSTART;TZID=America/New_York:20250329T190000
DTEND;TZID=America/New_York:20250329T213000
DTSTAMP:20260423T080430
CREATED:20150813T185202Z
LAST-MODIFIED:20241222T044257Z
UID:11054-1743274800-1743283800@oldsongs.org
SUMMARY:Old Songs Community Spring Dance
DESCRIPTION:with Tamarack and Paul Rosenberg \nFun\, simple dances from the U.S. and around the world. For every age and ability. All dances will be taught and will include circles\, contras and squares. Yummy dessert potluck during intermission. \nBuy Online or Pay at Door: \n\nThe dance will be held in person at the Old Songs building (37 S Main in Voorheesville).
URL:https://oldsongs.org/event/dance-spring25/
LOCATION:Old Songs Community Arts Center\, 37 S Main St\, Voorheesville\, NY\, 12186\, United States
CATEGORIES:Dance
ATTACH;FMTTYPE=image/jpeg:https://oldsongs.org/wp-content/uploads/sites/2/2015/08/Community-Dance-scaled.jpg
GEO:42.6527343;-73.928637
X-APPLE-STRUCTURED-LOCATION;VALUE=URI;X-ADDRESS=Old Songs Community Arts Center 37 S Main St Voorheesville NY 12186 United States;X-APPLE-RADIUS=500;X-TITLE=37 S Main St:geo:-73.928637,42.6527343
END:VEVENT
END:VCALENDAR