BEGIN:VCALENDAR
VERSION:2.0
PRODID:-//Old Songs — Music with Roots - ECPv5.16.4//NONSGML v1.0//EN
CALSCALE:GREGORIAN
METHOD:PUBLISH
X-WR-CALNAME:Old Songs — Music with Roots
X-ORIGINAL-URL:https://oldsongs.org
X-WR-CALDESC:Events for Old Songs — Music with Roots
BEGIN:VTIMEZONE
TZID:America/New_York
BEGIN:DAYLIGHT
TZOFFSETFROM:-0500
TZOFFSETTO:-0400
TZNAME:EDT
DTSTART:20250309T070000
END:DAYLIGHT
BEGIN:STANDARD
TZOFFSETFROM:-0400
TZOFFSETTO:-0500
TZNAME:EST
DTSTART:20251102T060000
END:STANDARD
END:VTIMEZONE
BEGIN:VEVENT
DTSTART;TZID=America/New_York:20250401T173000
DTEND;TZID=America/New_York:20250401T190000
DTSTAMP:20260423T031349
CREATED:20210915T051248Z
LAST-MODIFIED:20250201T231343Z
UID:11119-1743528600-1743534000@oldsongs.org
SUMMARY:Piano Accordion and Band Class
DESCRIPTION:with Peggy Hart\n \nBasic Technique\, theory and note reading. \nIf you have any questions regarding your instrument or ability\, contact Peggy at 518-439-1060 or peggymhart@yahoo.com. \nClass Dates: Tuesdays\, March 4\, 11\, 18\, 25\, & April 1\, 8 \nRegister
URL:https://oldsongs.org/event/int-accordion-spring25/2025-04-01/
LOCATION:Old Songs Community Arts Center\, 37 S Main St\, Voorheesville\, NY\, 12186\, United States
CATEGORIES:Class
GEO:42.6527343;-73.928637
X-APPLE-STRUCTURED-LOCATION;VALUE=URI;X-ADDRESS=Old Songs Community Arts Center 37 S Main St Voorheesville NY 12186 United States;X-APPLE-RADIUS=500;X-TITLE=37 S Main St:geo:-73.928637,42.6527343
END:VEVENT
BEGIN:VEVENT
DTSTART;TZID=America/New_York:20250401T180000
DTEND;TZID=America/New_York:20250401T191500
DTSTAMP:20260423T031349
CREATED:20210915T050311Z
LAST-MODIFIED:20250201T231453Z
UID:11125-1743530400-1743534900@oldsongs.org
SUMMARY:Advanced Beginner Ukulele
DESCRIPTION:with Kathleen Hanley \nThis class will review basic ukulele strums and chords as well as add new ones. Students will learn new songs to practice the one finger strum\, the thumb drag\, the damping strum\, and the triplet. New fingerpicking patterns will be introduced. Both new and returning students are welcome. \nFor more information contact Kathleen at kathleen.m.hanley@gmail.com. \nClass Dates: Tuesdays\, March 4\, 11\, 18\, 25\, & April 1\, 8 \nRegister
URL:https://oldsongs.org/event/advbeg-uke-spring25/2025-04-01/
LOCATION:Old Songs Community Arts Center\, 37 S Main St\, Voorheesville\, NY\, 12186\, United States
CATEGORIES:Class
GEO:42.6527343;-73.928637
X-APPLE-STRUCTURED-LOCATION;VALUE=URI;X-ADDRESS=Old Songs Community Arts Center 37 S Main St Voorheesville NY 12186 United States;X-APPLE-RADIUS=500;X-TITLE=37 S Main St:geo:-73.928637,42.6527343
END:VEVENT
BEGIN:VEVENT
DTSTART;TZID=America/New_York:20250401T193000
DTEND;TZID=America/New_York:20250401T204500
DTSTAMP:20260423T031349
CREATED:20210915T050833Z
LAST-MODIFIED:20250201T231432Z
UID:11108-1743535800-1743540300@oldsongs.org
SUMMARY:Intermediate Guitar
DESCRIPTION:with Ron Gordon \nThis class will include fun tunes and songs that highlight specific techniques in fingerpicking\, chording\, strumming\, and flat-picking. All new material will be taught so that both previous and new students will have opportunities to learn and make some great new music. You’ll get the tab\, and sound/video so that you can have some guitar classics to master over time. \nFor more information contact Ron at 518-372-4172 or rgukeboy@gmail.com. \nClass Dates: Tuesdays\, March 4\, 11\, 18\, 25\, & April 1\, 8 \nRegister
URL:https://oldsongs.org/event/int-guitar-spring25/2025-04-01/
LOCATION:Old Songs Community Arts Center\, 37 S Main St\, Voorheesville\, NY\, 12186\, United States
CATEGORIES:Class
GEO:42.6527343;-73.928637
X-APPLE-STRUCTURED-LOCATION;VALUE=URI;X-ADDRESS=Old Songs Community Arts Center 37 S Main St Voorheesville NY 12186 United States;X-APPLE-RADIUS=500;X-TITLE=37 S Main St:geo:-73.928637,42.6527343
END:VEVENT
END:VCALENDAR