BEGIN:VCALENDAR
VERSION:2.0
PRODID:-//Old Songs — Music with Roots - ECPv5.16.4//NONSGML v1.0//EN
CALSCALE:GREGORIAN
METHOD:PUBLISH
X-WR-CALNAME:Old Songs — Music with Roots
X-ORIGINAL-URL:https://oldsongs.org
X-WR-CALDESC:Events for Old Songs — Music with Roots
BEGIN:VTIMEZONE
TZID:America/New_York
BEGIN:DAYLIGHT
TZOFFSETFROM:-0500
TZOFFSETTO:-0400
TZNAME:EDT
DTSTART:20250309T070000
END:DAYLIGHT
BEGIN:STANDARD
TZOFFSETFROM:-0400
TZOFFSETTO:-0500
TZNAME:EST
DTSTART:20251102T060000
END:STANDARD
END:VTIMEZONE
BEGIN:VEVENT
DTSTART;TZID=America/New_York:20250404T193000
DTEND;TZID=America/New_York:20250404T213000
DTSTAMP:20260422T224728
CREATED:20150814T183948Z
LAST-MODIFIED:20250401T171040Z
UID:11067-1743795000-1743802200@oldsongs.org
SUMMARY:Postponed: Evie Ladin & Keith Terry
DESCRIPTION:Innovative musicians/dancers with a quirky neo-trad soul\, Oakland\, California-based Evie Ladin & Keith Terry throw down original folk songs and deep interpretations of old songs\, with the kinetic thrill of percussive dance. A prolific singer-songwriter\, percussive dancer and square dance caller\, the polyrhythmic heat of Evie’s clawhammer banjo has been heard from A Prairie Home Companion to Celtic Connections\, Lincoln Center to Hardly Strictly Bluegrass. Trained as a jazz drummer\, Keith Terry brings tonal percussion to stand-up bass\, is a renowned percussionist/rhythm dancer. evieladin.com
URL:https://oldsongs.org/event/evie-and-keith/
LOCATION:Old Songs Community Arts Center\, 37 S Main St\, Voorheesville\, NY\, 12186\, United States
CATEGORIES:Concert
ATTACH;FMTTYPE=image/jpeg:https://oldsongs.org/wp-content/uploads/sites/2/2015/08/EvieLadinKeithTerry_highres1-scaled-16x9-1.jpg
GEO:42.6527343;-73.928637
X-APPLE-STRUCTURED-LOCATION;VALUE=URI;X-ADDRESS=Old Songs Community Arts Center 37 S Main St Voorheesville NY 12186 United States;X-APPLE-RADIUS=500;X-TITLE=37 S Main St:geo:-73.928637,42.6527343
END:VEVENT
END:VCALENDAR